Package: geneRecommender Version: 1.78.0 Command: rm -rf geneRecommender.buildbin-libdir && mkdir geneRecommender.buildbin-libdir && /Users/biocbuild/BBS/utils/build-universal.sh geneRecommender_1.78.0.tar.gz /Library/Frameworks/R.framework/Resources/bin/R geneRecommender.buildbin-libdir StartedAt: 2025-02-05 15:58:14 -0500 (Wed, 05 Feb 2025) EndedAt: 2025-02-05 15:58:19 -0500 (Wed, 05 Feb 2025) EllapsedTime: 4.5 seconds RetCode: 0 Status: OK PackageFile: geneRecommender_1.78.0.tgz PackageFileSize: 263.2 KiB