Package: geneRecommender Version: 1.78.0 Command: /Library/Frameworks/R.framework/Resources/bin/R CMD check --install=check:geneRecommender.install-out.txt --library=/Library/Frameworks/R.framework/Resources/library --no-vignettes --timings geneRecommender_1.78.0.tar.gz StartedAt: 2025-01-31 20:11:57 -0500 (Fri, 31 Jan 2025) EndedAt: 2025-01-31 20:12:25 -0500 (Fri, 31 Jan 2025) EllapsedTime: 28.1 seconds RetCode: 0 Status: OK CheckDir: geneRecommender.Rcheck Warnings: 0