Package: geneRecommender Version: 1.78.0 Command: /Library/Frameworks/R.framework/Resources/bin/R CMD build --keep-empty-dirs --no-resave-data geneRecommender StartedAt: 2025-01-30 19:19:29 -0500 (Thu, 30 Jan 2025) EndedAt: 2025-01-30 19:19:45 -0500 (Thu, 30 Jan 2025) EllapsedTime: 16.3 seconds RetCode: 0 Status: OK PackageFile: geneRecommender_1.78.0.tar.gz PackageFileSize: 239.7 KiB