Package: geneRecommender Version: 1.78.0 Command: /Library/Frameworks/R.framework/Resources/bin/R CMD INSTALL geneRecommender StartedAt: 2025-01-30 15:07:19 -0500 (Thu, 30 Jan 2025) EndedAt: 2025-01-30 15:07:36 -0500 (Thu, 30 Jan 2025) EllapsedTime: 16.7 seconds RetCode: 0 Status: OK