Package: geneRecommender Version: 1.78.0 Command: /home/biocbuild/R/R/bin/R CMD build --keep-empty-dirs --no-resave-data geneRecommender StartedAt: 2025-01-30 23:47:36 -0000 (Thu, 30 Jan 2025) EndedAt: 2025-01-30 23:47:42 -0000 (Thu, 30 Jan 2025) EllapsedTime: 6.0 seconds RetCode: 0 Status: OK PackageFile: geneRecommender_1.78.0.tar.gz PackageFileSize: 231.3 KiB