Package: geneRecommender Version: 1.78.0 Command: /home/biocbuild/R/R/bin/R CMD INSTALL geneRecommender StartedAt: 2025-01-30 20:06:37 -0000 (Thu, 30 Jan 2025) EndedAt: 2025-01-30 20:06:58 -0000 (Thu, 30 Jan 2025) EllapsedTime: 21.1 seconds RetCode: 0 Status: OK