Package: geneRxCluster Version: 1.42.0 Command: rm -rf geneRxCluster.buildbin-libdir && mkdir geneRxCluster.buildbin-libdir && /Users/biocbuild/BBS/utils/build-universal.sh geneRxCluster_1.42.0.tar.gz /Library/Frameworks/R.framework/Resources/bin/R geneRxCluster.buildbin-libdir StartedAt: 2025-02-04 13:00:16 -0500 (Tue, 04 Feb 2025) EndedAt: 2025-02-04 13:00:44 -0500 (Tue, 04 Feb 2025) EllapsedTime: 28.0 seconds RetCode: 0 Status: OK PackageFile: geneRxCluster_1.42.0.tgz PackageFileSize: 337.8 KiB