Package: geneRxCluster Version: 1.42.0 Command: /Library/Frameworks/R.framework/Resources/bin/R CMD build --keep-empty-dirs --no-resave-data geneRxCluster StartedAt: 2025-02-03 19:08:02 -0500 (Mon, 03 Feb 2025) EndedAt: 2025-02-03 19:09:22 -0500 (Mon, 03 Feb 2025) EllapsedTime: 79.9 seconds RetCode: 0 Status: OK PackageFile: geneRxCluster_1.42.0.tar.gz PackageFileSize: 280.3 KiB