Package: geneRxCluster Version: 1.42.0 Command: /Library/Frameworks/R.framework/Resources/bin/R CMD INSTALL geneRxCluster StartedAt: 2025-02-03 15:21:13 -0500 (Mon, 03 Feb 2025) EndedAt: 2025-02-03 15:21:36 -0500 (Mon, 03 Feb 2025) EllapsedTime: 23.2 seconds RetCode: 0 Status: OK