Package: geneRxCluster Version: 1.42.0 Command: /home/biocbuild/bbs-3.20-bioc/R/bin/R CMD INSTALL geneRxCluster StartedAt: 2025-02-03 15:19:18 -0500 (Mon, 03 Feb 2025) EndedAt: 2025-02-03 15:19:27 -0500 (Mon, 03 Feb 2025) EllapsedTime: 8.6 seconds RetCode: 0 Status: OK