Package: geneRxCluster Version: 1.42.0 Command: /home/biocbuild/R/R/bin/R CMD INSTALL geneRxCluster StartedAt: 2025-02-10 20:16:56 -0000 (Mon, 10 Feb 2025) EndedAt: 2025-02-10 20:17:08 -0000 (Mon, 10 Feb 2025) EllapsedTime: 12.3 seconds RetCode: 0 Status: OK