Package: geneXtendeR Version: 1.32.0 Command: rm -rf geneXtendeR.buildbin-libdir && mkdir geneXtendeR.buildbin-libdir && /Users/biocbuild/BBS/utils/build-universal.sh geneXtendeR_1.32.0.tar.gz /Library/Frameworks/R.framework/Resources/bin/R geneXtendeR.buildbin-libdir StartedAt: 2025-02-11 13:19:20 -0500 (Tue, 11 Feb 2025) EndedAt: 2025-02-11 13:21:50 -0500 (Tue, 11 Feb 2025) EllapsedTime: 149.6 seconds RetCode: 0 Status: OK PackageFile: geneXtendeR_1.32.0.tgz PackageFileSize: 8.51 MiB