Package: geneXtendeR Version: 1.32.0 Command: /Library/Frameworks/R.framework/Resources/bin/R CMD build --keep-empty-dirs --no-resave-data geneXtendeR StartedAt: 2025-02-03 19:08:44 -0500 (Mon, 03 Feb 2025) EndedAt: 2025-02-03 19:08:50 -0500 (Mon, 03 Feb 2025) EllapsedTime: 6.7 seconds RetCode: 0 Status: OK PackageFile: geneXtendeR_1.32.0.tar.gz PackageFileSize: 11.74 MiB