Package: geneXtendeR Version: 1.32.0 Command: /Library/Frameworks/R.framework/Resources/bin/R CMD check --install=check:geneXtendeR.install-out.txt --library=/Library/Frameworks/R.framework/Resources/library --no-vignettes --timings geneXtendeR_1.32.0.tar.gz StartedAt: 2025-02-04 04:09:27 -0500 (Tue, 04 Feb 2025) EndedAt: 2025-02-04 04:31:58 -0500 (Tue, 04 Feb 2025) EllapsedTime: 1350.6 seconds RetCode: 0 Status: WARNINGS CheckDir: geneXtendeR.Rcheck Warnings: 2