Package: geneXtendeR Version: 1.32.0 Command: /home/biocbuild/bbs-3.20-bioc/R/bin/R CMD INSTALL geneXtendeR StartedAt: 2025-02-03 15:41:42 -0500 (Mon, 03 Feb 2025) EndedAt: 2025-02-03 15:42:32 -0500 (Mon, 03 Feb 2025) EllapsedTime: 49.7 seconds RetCode: 0 Status: OK