Package: geneXtendeR Version: 1.32.0 Command: rm -rf geneXtendeR.buildbin-libdir && mkdir geneXtendeR.buildbin-libdir && F:\biocbuild\bbs-3.20-bioc\R\bin\R.exe CMD INSTALL --build --library=geneXtendeR.buildbin-libdir geneXtendeR_1.32.0.tar.gz StartedAt: 2025-02-04 08:34:04 -0500 (Tue, 04 Feb 2025) EndedAt: 2025-02-04 08:35:10 -0500 (Tue, 04 Feb 2025) EllapsedTime: 65.8 seconds RetCode: 0 Status: OK PackageFile: geneXtendeR_1.32.0.zip PackageFileSize: 8.406 MiB