Package: genefu Version: 2.38.0 Command: rm -rf genefu.buildbin-libdir && mkdir genefu.buildbin-libdir && /Users/biocbuild/BBS/utils/build-universal.sh genefu_2.38.0.tar.gz /Library/Frameworks/R.framework/Resources/bin/R genefu.buildbin-libdir StartedAt: 2025-02-05 15:57:33 -0500 (Wed, 05 Feb 2025) EndedAt: 2025-02-05 15:58:04 -0500 (Wed, 05 Feb 2025) EllapsedTime: 30.8 seconds RetCode: 0 Status: OK PackageFile: genefu_2.38.0.tgz PackageFileSize: 5.181 MiB