Package: genefu Version: 2.38.0 Command: /Library/Frameworks/R.framework/Resources/bin/R CMD build --keep-empty-dirs --no-resave-data genefu StartedAt: 2025-02-04 00:04:52 -0500 (Tue, 04 Feb 2025) EndedAt: 2025-02-04 00:06:16 -0500 (Tue, 04 Feb 2025) EllapsedTime: 83.4 seconds RetCode: 0 Status: OK PackageFile: genefu_2.38.0.tar.gz PackageFileSize: 4.891 MiB