Package: genefu Version: 2.38.0 Command: rm -rf genefu.buildbin-libdir && mkdir genefu.buildbin-libdir && /Users/biocbuild/BBS/utils/build-universal.sh genefu_2.38.0.tar.gz /Library/Frameworks/R.framework/Resources/bin/R genefu.buildbin-libdir StartedAt: 2025-02-11 13:18:15 -0500 (Tue, 11 Feb 2025) EndedAt: 2025-02-11 13:19:46 -0500 (Tue, 11 Feb 2025) EllapsedTime: 91.0 seconds RetCode: 0 Status: OK PackageFile: genefu_2.38.0.tgz PackageFileSize: 5.183 MiB