Package: genefu Version: 2.38.0 Command: rm -rf genefu.buildbin-libdir && mkdir genefu.buildbin-libdir && F:\biocbuild\bbs-3.20-bioc\R\bin\R.exe CMD INSTALL --build --library=genefu.buildbin-libdir genefu_2.38.0.tar.gz StartedAt: 2025-02-04 08:33:16 -0500 (Tue, 04 Feb 2025) EndedAt: 2025-02-04 08:34:04 -0500 (Tue, 04 Feb 2025) EllapsedTime: 48.3 seconds RetCode: 0 Status: OK PackageFile: genefu_2.38.0.zip PackageFileSize: 4.936 MiB