Package: genefu Version: 2.38.0 Command: chmod a+r genefu -R && F:\biocbuild\bbs-3.20-bioc\R\bin\R.exe CMD build --keep-empty-dirs --no-resave-data genefu StartedAt: 2025-02-10 19:14:41 -0500 (Mon, 10 Feb 2025) EndedAt: 2025-02-10 19:16:34 -0500 (Mon, 10 Feb 2025) EllapsedTime: 113.1 seconds RetCode: 0 Status: OK PackageFile: genefu_2.38.0.tar.gz PackageFileSize: 4.636 MiB