Package: genefu Version: 2.38.0 Command: F:\biocbuild\bbs-3.20-bioc\R\bin\R.exe CMD INSTALL genefu StartedAt: 2025-02-10 17:07:41 -0500 (Mon, 10 Feb 2025) EndedAt: 2025-02-10 17:08:30 -0500 (Mon, 10 Feb 2025) EllapsedTime: 48.9 seconds RetCode: 0 Status: OK