Package: geneplotter Version: 1.84.0 Command: rm -rf geneplotter.buildbin-libdir && mkdir geneplotter.buildbin-libdir && /Users/biocbuild/BBS/utils/build-universal.sh geneplotter_1.84.0.tar.gz /Library/Frameworks/R.framework/Resources/bin/R geneplotter.buildbin-libdir StartedAt: 2025-02-05 15:58:09 -0500 (Wed, 05 Feb 2025) EndedAt: 2025-02-05 15:58:28 -0500 (Wed, 05 Feb 2025) EllapsedTime: 18.9 seconds RetCode: 0 Status: OK PackageFile: geneplotter_1.84.0.tgz PackageFileSize: 1.76 MiB