Package: geneplotter Version: 1.84.0 Command: /Library/Frameworks/R.framework/Resources/bin/R CMD build --keep-empty-dirs --no-resave-data geneplotter StartedAt: 2025-02-03 19:07:21 -0500 (Mon, 03 Feb 2025) EndedAt: 2025-02-03 19:08:17 -0500 (Mon, 03 Feb 2025) EllapsedTime: 56.0 seconds RetCode: 0 Status: OK PackageFile: geneplotter_1.84.0.tar.gz PackageFileSize: 1.649 MiB