Package: geneplotter Version: 1.84.0 Command: chmod a+r geneplotter -R && F:\biocbuild\bbs-3.20-bioc\R\bin\R.exe CMD build --keep-empty-dirs --no-resave-data geneplotter StartedAt: 2025-02-03 19:22:09 -0500 (Mon, 03 Feb 2025) EndedAt: 2025-02-03 19:22:46 -0500 (Mon, 03 Feb 2025) EllapsedTime: 37.1 seconds RetCode: 0 Status: OK PackageFile: geneplotter_1.84.0.tar.gz PackageFileSize: 1.461 MiB