Package: geneplotter Version: 1.84.0 Command: F:\biocbuild\bbs-3.20-bioc\R\bin\R.exe CMD check --no-multiarch --install=check:geneplotter.install-out.txt --library=F:\biocbuild\bbs-3.20-bioc\R\library --no-vignettes --timings geneplotter_1.84.0.tar.gz StartedAt: 2025-02-04 02:06:32 -0500 (Tue, 04 Feb 2025) EndedAt: 2025-02-04 02:08:49 -0500 (Tue, 04 Feb 2025) EllapsedTime: 137.2 seconds RetCode: 0 Status: OK CheckDir: geneplotter.Rcheck Warnings: 0