Package: geneplotter Version: 1.84.0 Command: /home/biocbuild/R/R/bin/R CMD build --keep-empty-dirs --no-resave-data geneplotter StartedAt: 2025-02-03 23:47:47 -0000 (Mon, 03 Feb 2025) EndedAt: 2025-02-03 23:48:16 -0000 (Mon, 03 Feb 2025) EllapsedTime: 29.0 seconds RetCode: 0 Status: OK PackageFile: geneplotter_1.84.0.tar.gz PackageFileSize: 1.596 MiB