Package: geneplotter Version: 1.84.0 Command: /home/biocbuild/R/R/bin/R CMD INSTALL geneplotter StartedAt: 2025-02-10 20:27:18 -0000 (Mon, 10 Feb 2025) EndedAt: 2025-02-10 20:27:36 -0000 (Mon, 10 Feb 2025) EllapsedTime: 18.0 seconds RetCode: 0 Status: OK