Package: genoCN Version: 1.58.0 Command: /Library/Frameworks/R.framework/Resources/bin/R CMD check --install=check:genoCN.install-out.txt --library=/Library/Frameworks/R.framework/Resources/library --no-vignettes --timings genoCN_1.58.0.tar.gz StartedAt: 2025-02-04 20:44:24 -0500 (Tue, 04 Feb 2025) EndedAt: 2025-02-04 20:45:10 -0500 (Tue, 04 Feb 2025) EllapsedTime: 46.1 seconds RetCode: 0 Status: OK CheckDir: genoCN.Rcheck Warnings: 0