Package: genoCN Version: 1.58.0 Command: /Library/Frameworks/R.framework/Resources/bin/R CMD INSTALL genoCN StartedAt: 2025-02-03 15:32:18 -0500 (Mon, 03 Feb 2025) EndedAt: 2025-02-03 15:32:29 -0500 (Mon, 03 Feb 2025) EllapsedTime: 10.4 seconds RetCode: 0 Status: OK