Package: genoCN Version: 1.58.0 Command: chmod a+r genoCN -R && F:\biocbuild\bbs-3.20-bioc\R\bin\R.exe CMD build --keep-empty-dirs --no-resave-data genoCN StartedAt: 2025-02-03 19:23:19 -0500 (Mon, 03 Feb 2025) EndedAt: 2025-02-03 19:23:41 -0500 (Mon, 03 Feb 2025) EllapsedTime: 22.0 seconds RetCode: 0 Status: OK PackageFile: genoCN_1.58.0.tar.gz PackageFileSize: 1.026 MiB