Package: genoCN Version: 1.58.0 Command: /home/biocbuild/R/R/bin/R CMD build --keep-empty-dirs --no-resave-data genoCN StartedAt: 2025-02-10 23:39:21 -0000 (Mon, 10 Feb 2025) EndedAt: 2025-02-10 23:39:34 -0000 (Mon, 10 Feb 2025) EllapsedTime: 13.0 seconds RetCode: 0 Status: OK PackageFile: genoCN_1.58.0.tar.gz PackageFileSize: 1.131 MiB