Package: genoCN Version: 1.58.0 Command: /home/biocbuild/R/R/bin/R CMD check --install=check:genoCN.install-out.txt --library=/home/biocbuild/R/R/site-library --no-vignettes --timings genoCN_1.58.0.tar.gz StartedAt: 2025-02-04 07:17:20 -0000 (Tue, 04 Feb 2025) EndedAt: 2025-02-04 07:17:57 -0000 (Tue, 04 Feb 2025) EllapsedTime: 37.0 seconds RetCode: 0 Status: OK CheckDir: genoCN.Rcheck Warnings: 0