Package: genomation Version: 1.38.0 Command: rm -rf genomation.buildbin-libdir && mkdir genomation.buildbin-libdir && /Users/biocbuild/BBS/utils/build-universal.sh genomation_1.38.0.tar.gz /Library/Frameworks/R.framework/Resources/bin/R genomation.buildbin-libdir StartedAt: 2025-02-01 15:03:25 -0500 (Sat, 01 Feb 2025) EndedAt: 2025-02-01 15:04:26 -0500 (Sat, 01 Feb 2025) EllapsedTime: 61.1 seconds RetCode: 0 Status: OK PackageFile: genomation_1.38.0.tgz PackageFileSize: 3.007 MiB