Package: genomation Version: 1.38.0 Command: /Library/Frameworks/R.framework/Resources/bin/R CMD INSTALL genomation StartedAt: 2025-01-30 16:02:05 -0500 (Thu, 30 Jan 2025) EndedAt: 2025-01-30 16:03:00 -0500 (Thu, 30 Jan 2025) EllapsedTime: 55.0 seconds RetCode: 0 Status: OK