Package: genomation Version: 1.38.0 Command: rm -rf genomation.buildbin-libdir && mkdir genomation.buildbin-libdir && F:\biocbuild\bbs-3.20-bioc\R\bin\R.exe CMD INSTALL --build --library=genomation.buildbin-libdir genomation_1.38.0.tar.gz StartedAt: 2025-01-31 08:43:18 -0500 (Fri, 31 Jan 2025) EndedAt: 2025-01-31 08:44:51 -0500 (Fri, 31 Jan 2025) EllapsedTime: 93.8 seconds RetCode: 0 Status: OK PackageFile: genomation_1.38.0.zip PackageFileSize: 3.325 MiB