Package: genomation Version: 1.38.0 Command: chmod a+r genomation -R && F:\biocbuild\bbs-3.20-bioc\R\bin\R.exe CMD build --keep-empty-dirs --no-resave-data genomation StartedAt: 2025-01-30 19:08:04 -0500 (Thu, 30 Jan 2025) EndedAt: 2025-01-30 19:10:01 -0500 (Thu, 30 Jan 2025) EllapsedTime: 117.7 seconds RetCode: 0 Status: OK PackageFile: genomation_1.38.0.tar.gz PackageFileSize: 6.005 MiB