Package: genomation Version: 1.38.0 Command: /home/biocbuild/R/R/bin/R CMD build --keep-empty-dirs --no-resave-data genomation StartedAt: 2025-01-30 23:48:35 -0000 (Thu, 30 Jan 2025) EndedAt: 2025-01-30 23:50:17 -0000 (Thu, 30 Jan 2025) EllapsedTime: 102.0 seconds RetCode: 0 Status: OK PackageFile: genomation_1.38.0.tar.gz PackageFileSize: 6.071 MiB