Package: genomeIntervals Version: 1.62.0 Command: /Library/Frameworks/R.framework/Resources/bin/R CMD build --keep-empty-dirs --no-resave-data genomeIntervals StartedAt: 2025-02-11 00:19:29 -0500 (Tue, 11 Feb 2025) EndedAt: 2025-02-11 00:19:56 -0500 (Tue, 11 Feb 2025) EllapsedTime: 27.4 seconds RetCode: 0 Status: OK PackageFile: genomeIntervals_1.62.0.tar.gz PackageFileSize: 255.9 KiB