Package: genomeIntervals Version: 1.62.0 Command: /Library/Frameworks/R.framework/Resources/bin/R CMD check --install=check:genomeIntervals.install-out.txt --library=/Library/Frameworks/R.framework/Resources/library --no-vignettes --timings genomeIntervals_1.62.0.tar.gz StartedAt: 2025-02-04 20:49:51 -0500 (Tue, 04 Feb 2025) EndedAt: 2025-02-04 20:51:34 -0500 (Tue, 04 Feb 2025) EllapsedTime: 103.3 seconds RetCode: 0 Status: WARNINGS CheckDir: genomeIntervals.Rcheck Warnings: 1