Package: genomeIntervals Version: 1.62.0 Command: rm -rf genomeIntervals.buildbin-libdir && mkdir genomeIntervals.buildbin-libdir && /Users/biocbuild/BBS/utils/build-universal.sh genomeIntervals_1.62.0.tar.gz /Library/Frameworks/R.framework/Resources/bin/R genomeIntervals.buildbin-libdir StartedAt: 2025-02-04 13:01:01 -0500 (Tue, 04 Feb 2025) EndedAt: 2025-02-04 13:01:49 -0500 (Tue, 04 Feb 2025) EllapsedTime: 47.6 seconds RetCode: 0 Status: OK PackageFile: genomeIntervals_1.62.0.tgz PackageFileSize: 680.6 KiB