Package: genomeIntervals Version: 1.62.0 Command: /Library/Frameworks/R.framework/Resources/bin/R CMD INSTALL genomeIntervals StartedAt: 2025-02-10 15:12:34 -0500 (Mon, 10 Feb 2025) EndedAt: 2025-02-10 15:13:08 -0500 (Mon, 10 Feb 2025) EllapsedTime: 34.1 seconds RetCode: 0 Status: OK