Package: genomeIntervals Version: 1.62.0 Command: chmod a+r genomeIntervals -R && F:\biocbuild\bbs-3.20-bioc\R\bin\R.exe CMD build --keep-empty-dirs --no-resave-data genomeIntervals StartedAt: 2025-02-03 19:23:34 -0500 (Mon, 03 Feb 2025) EndedAt: 2025-02-03 19:24:26 -0500 (Mon, 03 Feb 2025) EllapsedTime: 51.5 seconds RetCode: 0 Status: OK PackageFile: genomeIntervals_1.62.0.tar.gz PackageFileSize: 140.7 KiB