Package: genomeIntervals Version: 1.62.0 Command: /home/biocbuild/R/R/bin/R CMD build --keep-empty-dirs --no-resave-data genomeIntervals StartedAt: 2025-02-10 23:39:34 -0000 (Mon, 10 Feb 2025) EndedAt: 2025-02-10 23:40:00 -0000 (Mon, 10 Feb 2025) EllapsedTime: 26.0 seconds RetCode: 0 Status: OK PackageFile: genomeIntervals_1.62.0.tar.gz PackageFileSize: 248.9 KiB