Package: genomeIntervals Version: 1.62.0 Command: /home/biocbuild/bbs-3.20-bioc/R/bin/R CMD INSTALL genomeIntervals StartedAt: 2024-11-19 15:36:14 -0500 (Tue, 19 Nov 2024) EndedAt: 2024-11-19 15:36:25 -0500 (Tue, 19 Nov 2024) EllapsedTime: 11.1 seconds RetCode: 0 Status: OK