Package: geomeTriD Version: 1.0.1 Command: rm -rf geomeTriD.buildbin-libdir && mkdir geomeTriD.buildbin-libdir && /Users/biocbuild/BBS/utils/build-universal.sh geomeTriD_1.0.1.tar.gz /Library/Frameworks/R.framework/Resources/bin/R geomeTriD.buildbin-libdir StartedAt: 2025-02-01 15:06:09 -0500 (Sat, 01 Feb 2025) EndedAt: 2025-02-01 15:07:20 -0500 (Sat, 01 Feb 2025) EllapsedTime: 71.6 seconds RetCode: 0 Status: OK PackageFile: geomeTriD_1.0.1.tgz PackageFileSize: 1.838 MiB