Package: geomeTriD Version: 1.0.1 Command: /Library/Frameworks/R.framework/Resources/bin/R CMD build --keep-empty-dirs --no-resave-data geomeTriD StartedAt: 2025-01-31 00:20:38 -0500 (Fri, 31 Jan 2025) EndedAt: 2025-01-31 00:22:24 -0500 (Fri, 31 Jan 2025) EllapsedTime: 106.0 seconds RetCode: 0 Status: OK PackageFile: geomeTriD_1.0.1.tar.gz PackageFileSize: 1.39 MiB