Package: geomeTriD Version: 1.0.1 Command: /Library/Frameworks/R.framework/Resources/bin/R CMD INSTALL geomeTriD StartedAt: 2025-01-30 16:54:32 -0500 (Thu, 30 Jan 2025) EndedAt: 2025-01-30 16:55:36 -0500 (Thu, 30 Jan 2025) EllapsedTime: 64.5 seconds RetCode: 0 Status: OK