Package: geomeTriD Version: 1.0.0 Command: /home/biocbuild/R/R/bin/R CMD INSTALL geomeTriD StartedAt: 2024-11-19 21:07:58 -0000 (Tue, 19 Nov 2024) EndedAt: 2024-11-19 21:09:18 -0000 (Tue, 19 Nov 2024) EllapsedTime: 79.9 seconds RetCode: 0 Status: OK