Package: geomeTriD Version: 1.0.1 Command: rm -rf geomeTriD.buildbin-libdir && mkdir geomeTriD.buildbin-libdir && /Users/biocbuild/BBS/utils/build-universal.sh geomeTriD_1.0.1.tar.gz /Library/Frameworks/R.framework/Resources/bin/R geomeTriD.buildbin-libdir StartedAt: 2025-01-31 12:53:20 -0500 (Fri, 31 Jan 2025) EndedAt: 2025-01-31 12:55:20 -0500 (Fri, 31 Jan 2025) EllapsedTime: 119.2 seconds RetCode: 0 Status: OK PackageFile: geomeTriD_1.0.1.tgz PackageFileSize: 1.831 MiB